BEGIN:VCALENDAR
VERSION:2.0
PRODID:-//eventon.com NONSGML v1.0//EN
CALSCALE:GREGORIAN
METHOD:PUBLISH
BEGIN:VEVENT
UID:69e89d52c8613
DTSTAMP:20260422T100506Z
DTSTART:20250909T190000Z
DTEND:20250909T220000Z
LOCATION:
SUMMARY:Open verenigingsavond
DESCRIPTION:Open verenigingsavond\nhttps://studenteninkringen.nl/events/ope
 n-verenigingsavond/
URL:https://studenteninkringen.nl/events/open-verenigingsavond/
END:VEVENT
END:VCALENDAR